BEGIN:VCALENDAR
VERSION:2.0
PRODID:-//ChamberMaster//Event Calendar 2.0//EN
METHOD:PUBLISH
X-PUBLISHED-TTL:P3D
REFRESH-INTERVAL:P3D
CALSCALE:GREGORIAN
BEGIN:VEVENT
DTSTART:20240509T200000Z
DTEND:20240509T220000Z
X-MICROSOFT-CDO-ALLDAYEVENT:FALSE
SUMMARY:Dr. Jim Cummins Retirement Reception - Neosho School District Superintendent of Schools
DESCRIPTION:Please join us as we celebrate the remarkable career of Superintendent of Schools Dr. Jim Cummins\, as he embarks on a new chapter in life! This is a come and go retirement reception\, so let's reminisce on the memories\, share stories and honor the impact Dr. Cummins has made on our schools during his time at the Neosho School District.
X-ALT-DESC;FMTTYPE=text/html:<span style="font-family:helvetica neue\,helvetica\,arial\,sans-serif\; font-size:16px">Please join us as we celebrate the remarkable career of Superintendent of Schools Dr. Jim Cummins\, as he embarks on a new chapter in life! This is a come and go retirement reception\, so let&#39\;s reminisce on the memories\, share stories and honor the impact Dr. Cummins has made on our schools during his time at the Neosho School District.</span>
LOCATION:Neosho Administrative Center 418 Fairground Road Neosho\, MO 64850
UID:e.2144.11915
SEQUENCE:3
DTSTAMP:20260425T020746Z
URL:https://www.neoshocc.com/events/details/dr-jim-cummins-retirement-reception-neosho-school-district-superintendent-of-schools-11915
END:VEVENT

END:VCALENDAR
