BEGIN:VCALENDAR
VERSION:2.0
PRODID:-//ChamberMaster//Event Calendar 2.0//EN
METHOD:PUBLISH
X-PUBLISHED-TTL:P3D
REFRESH-INTERVAL:P3D
CALSCALE:GREGORIAN
BEGIN:VEVENT
DTSTART:20260315T060000Z
DTEND:20260315T070000Z
X-MICROSOFT-CDO-ALLDAYEVENT:FALSE
SUMMARY:Dreams\, Visions & Goals: Owning Your Path
DESCRIPTION:Dreams\, Visions & Goals: Owning Your Path\n\nDate: Sunday\, March 15   1 2 PM CST\n\nShort Promo:\n\nYour dreams are calling. It's time to answer.\n\nEvent Description:\n\nLearn how to turn your dreams into clear visions and your visions into achievable goals. This empowering workshop blends neuroscience\, clarity work\, and intentional planning to help you design a life you're excited to live.\n\nWalk away with a plan   and the confidence to own your path.\n\nYou'll Learn:\n\n  How to clarify your dreams\n\n  Visioning exercises for the next 1 5 years\n\n  A goal-setting method that actually works\n\nWho This Is For:\n\nDreamers\, planners\, and anyone ready for a breakthrough.\n\nCTA:\n\nClaim your spot and step into your potential.\n\nhttps://www.livebliss.org/event-details/dreams-visions-goals-owning-your-path
X-ALT-DESC;FMTTYPE=text/html:<h3><span style="color:rgb(0\, 0\, 0)"><span style="color:rgb(67\, 67\, 67)\; font-family:arial\,sans-serif\; font-size:14pt">Dreams\, Visions &amp\; Goals: Owning Your Path</span></span></h3>\n\n<p><span style="color:rgb(0\, 0\, 0)"><strong>Date:</strong><span style="font-family:tenor sans\,sans-serif\; font-size:11pt"> Sunday\, March 15 &bull\; 1&ndash\;2 PM CST</span></span></p>\n\n<p><span style="color:rgb(0\, 0\, 0)"><strong>Short Promo:</strong></span></p>\n\n<p><span style="color:rgb(0\, 0\, 0)"><span style="font-family:tenor sans\,sans-serif\; font-size:11pt">Your dreams are calling. It&rsquo\;s time to answer.</span></span></p>\n\n<p><span style="color:rgb(0\, 0\, 0)"><strong>Event Description:</strong></span></p>\n\n<p><span style="color:rgb(0\, 0\, 0)"><span style="font-family:tenor sans\,sans-serif\; font-size:11pt">Learn how to turn your dreams into clear visions and your visions into achievable goals. This empowering workshop blends neuroscience\, clarity work\, and intentional planning to help you design a life you&rsquo\;re excited to live.</span></span></p>\n\n<p><span style="color:rgb(0\, 0\, 0)"><span style="font-family:tenor sans\,sans-serif\; font-size:11pt">Walk away with a plan &mdash\; and the confidence to own your path.</span></span></p>\n\n<p><span style="color:rgb(0\, 0\, 0)"><strong>You&rsquo\;ll Learn:</strong></span></p>\n\n<p><span style="color:rgb(0\, 0\, 0)"><span style="font-family:tenor sans\,sans-serif\; font-size:11pt">&bull\; How to clarify your dreams</span></span></p>\n\n<p><span style="color:rgb(0\, 0\, 0)"><span style="font-family:tenor sans\,sans-serif\; font-size:11pt">&bull\; Visioning exercises for the next 1&ndash\;5 years</span></span></p>\n\n<p><span style="color:rgb(0\, 0\, 0)"><span style="font-family:tenor sans\,sans-serif\; font-size:11pt">&bull\; A goal-setting method that actually works</span></span></p>\n\n<p><span style="color:rgb(0\, 0\, 0)"><strong>Who This Is For:</strong></span></p>\n\n<p><span style="color:rgb(0\, 0\, 0)"><span style="font-family:tenor sans\,sans-serif\; font-size:11pt">Dreamers\, planners\, and anyone ready for a breakthrough.</span></span></p>\n\n<p><span style="color:rgb(0\, 0\, 0)"><strong>CTA:</strong></span></p>\n\n<p><span style="color:rgb(0\, 0\, 0)"><span style="font-family:tenor sans\,sans-serif\; font-size:11pt">Claim your spot and step into your potential.</span></span></p>\n\n<p><span style="color:rgb(0\, 0\, 0)"><a href="https://www.livebliss.org/event-details/dreams-visions-goals-owning-your-path" style="text-decoration: none\;"><u>https://www.livebliss.org/event-details/dreams-visions-goals-owning-your-path</u></a></span></p>\n
LOCATION:404 S Neosho Blvd Suite D Neosho MO 64850
UID:e.2144.18838
SEQUENCE:3
DTSTAMP:20260423T192504Z
URL:https://www.neoshocc.com/events/details/dreams-visions-goals-owning-your-path-18838
END:VEVENT

END:VCALENDAR
