BEGIN:VCALENDAR
VERSION:2.0
PRODID:-//ChamberMaster//Event Calendar 2.0//EN
METHOD:PUBLISH
X-PUBLISHED-TTL:P3D
REFRESH-INTERVAL:P3D
CALSCALE:GREGORIAN
BEGIN:VEVENT
DTSTART:20230713T130000Z
DTEND:20230713T140000Z
X-MICROSOFT-CDO-ALLDAYEVENT:FALSE
SUMMARY:E-Commerce Meetup - Magnolia & Sunshine Boutique
DESCRIPTION:Are you interested in learning more about E-Commerce?  Join us for the Regional E-Commerce Meetup that meets the 2nd Thursday of each month at different locations.  This month will be hosted at Magnolia & Sunshine Boutique in Neosho\, MO.
X-ALT-DESC;FMTTYPE=text/html:Are you interested in learning more about E-Commerce?&nbsp\; Join us for the Regional E-Commerce Meetup that meets the 2nd Thursday of each month at different locations.&nbsp\; This month will be hosted at Magnolia &amp\; Sunshine Boutique in Neosho\, MO.&nbsp\;&nbsp\;&nbsp\;&nbsp\;&nbsp\;&nbsp\;&nbsp\;&nbsp\;&nbsp\;&nbsp\;&nbsp\;&nbsp\;
LOCATION:Magnolia & Sunshine Boutique 101 South Washington St. Neosho\, MO 64850
UID:e.2144.10492
SEQUENCE:3
DTSTAMP:20260425T171015Z
URL:https://www.neoshocc.com/events/details/e-commerce-meetup-magnolia-sunshine-boutique-10492
END:VEVENT

END:VCALENDAR
