BEGIN:VCALENDAR
VERSION:2.0
PRODID:-//ChamberMaster//Event Calendar 2.0//EN
METHOD:PUBLISH
X-PUBLISHED-TTL:P3D
REFRESH-INTERVAL:P3D
CALSCALE:GREGORIAN
BEGIN:VEVENT
DTSTART:20250719T140000Z
DTEND:20250719T220000Z
X-MICROSOFT-CDO-ALLDAYEVENT:FALSE
SUMMARY:Eagle Outdoors Customer Appreciation
DESCRIPTION:CUSTOMER APPRECIATION DAY!!!\n\nJuly 19\, 2025\n\nWillard and Neosho\n\nLunch provided\n\nHuge discounts and giveaway from the top brands.\n\nReps on site to help answer any questions.\n\nYou will not want to miss it!\n\nWatch the page for more details!
X-ALT-DESC;FMTTYPE=text/html:<div class="xdj266r x14z9mp xat24cr x1lziwak x1vvkbs" style="margin: 0px\; overflow-wrap: break-word\; font-family: &quot\;Segoe UI Historic&quot\;\, &quot\;Segoe UI&quot\;\, Helvetica\, Arial\, sans-serif\; color: rgb(226\, 229\, 233)\; font-size: 15px\; background-color: rgb(37\, 39\, 40)\;">CUSTOMER APPRECIATION DAY!!!</div>\n\n<div class="x14z9mp xat24cr x1lziwak x1vvkbs xtlvy1s" style="margin: 0.5em 0px 0px\; overflow-wrap: break-word\; font-family: &quot\;Segoe UI Historic&quot\;\, &quot\;Segoe UI&quot\;\, Helvetica\, Arial\, sans-serif\; color: rgb(226\, 229\, 233)\; font-size: 15px\; background-color: rgb(37\, 39\, 40)\;">July 19\, 2025</div>\n\n<div class="x14z9mp xat24cr x1lziwak x1vvkbs xtlvy1s" style="margin: 0.5em 0px 0px\; overflow-wrap: break-word\; font-family: &quot\;Segoe UI Historic&quot\;\, &quot\;Segoe UI&quot\;\, Helvetica\, Arial\, sans-serif\; color: rgb(226\, 229\, 233)\; font-size: 15px\; background-color: rgb(37\, 39\, 40)\;">Willard and Neosho</div>\n\n<div class="x14z9mp xat24cr x1lziwak x1vvkbs xtlvy1s" style="margin: 0.5em 0px 0px\; overflow-wrap: break-word\; font-family: &quot\;Segoe UI Historic&quot\;\, &quot\;Segoe UI&quot\;\, Helvetica\, Arial\, sans-serif\; color: rgb(226\, 229\, 233)\; font-size: 15px\; background-color: rgb(37\, 39\, 40)\;">Lunch provided</div>\n\n<div class="x14z9mp xat24cr x1lziwak x1vvkbs xtlvy1s" style="margin: 0.5em 0px 0px\; overflow-wrap: break-word\; font-family: &quot\;Segoe UI Historic&quot\;\, &quot\;Segoe UI&quot\;\, Helvetica\, Arial\, sans-serif\; color: rgb(226\, 229\, 233)\; font-size: 15px\; background-color: rgb(37\, 39\, 40)\;">Huge discounts and giveaway from the top brands.</div>\n\n<div class="x14z9mp xat24cr x1lziwak x1vvkbs xtlvy1s" style="margin: 0.5em 0px 0px\; overflow-wrap: break-word\; font-family: &quot\;Segoe UI Historic&quot\;\, &quot\;Segoe UI&quot\;\, Helvetica\, Arial\, sans-serif\; color: rgb(226\, 229\, 233)\; font-size: 15px\; background-color: rgb(37\, 39\, 40)\;">Reps on site to help answer any questions.</div>\n\n<div class="x14z9mp xat24cr x1lziwak x1vvkbs xtlvy1s" style="margin: 0.5em 0px 0px\; overflow-wrap: break-word\; font-family: &quot\;Segoe UI Historic&quot\;\, &quot\;Segoe UI&quot\;\, Helvetica\, Arial\, sans-serif\; color: rgb(226\, 229\, 233)\; font-size: 15px\; background-color: rgb(37\, 39\, 40)\;">You will not want to miss it!</div>\n\n<div class="x14z9mp xat24cr x1lziwak x1vvkbs xtlvy1s" style="margin: 0.5em 0px 0px\; overflow-wrap: break-word\; font-family: &quot\;Segoe UI Historic&quot\;\, &quot\;Segoe UI&quot\;\, Helvetica\, Arial\, sans-serif\; color: rgb(226\, 229\, 233)\; font-size: 15px\; background-color: rgb(37\, 39\, 40)\;">Watch the page for more details!</div>\n
LOCATION:Eagle Outdoors 1411 Blue Oak Lane\, Suite A\, Neosho\, Mo.
UID:e.2144.17316
SEQUENCE:3
DTSTAMP:20260424T073742Z
URL:https://www.neoshocc.com/events/details/eagle-outdoors-customer-appreciation-17316
END:VEVENT

END:VCALENDAR
