BEGIN:VCALENDAR
VERSION:2.0
PRODID:-//ChamberMaster//Event Calendar 2.0//EN
METHOD:PUBLISH
X-PUBLISHED-TTL:P3D
REFRESH-INTERVAL:P3D
CALSCALE:GREGORIAN
BEGIN:VEVENT
DTSTART:20250626T153000Z
DTEND:20250626T163000Z
X-MICROSOFT-CDO-ALLDAYEVENT:FALSE
SUMMARY:Eastern Shawnee Government Building Ribbon Cutting
DESCRIPTION:Eastern Shawnee Government Building Ribbon Cutting\n\n  Date: Thursday\, June 26\, 2025\n\n  Time: 10:30 AM\n\n  Location: 10300 S. Bluejacket Road\, Wyandotte\, OK\n\nEvent Bio:\n\nJoin the Eastern Shawnee Tribe of Oklahoma as they celebrate the official opening of their new Government Building in Wyandotte! This ribbon cutting marks an important milestone in their community development and governance. Come show your support for the tribe's leaders and their advancing initiatives.
X-ALT-DESC;FMTTYPE=text/html:<h3 data-end="102" data-start="44">&#127963\;&#65039\; Eastern Shawnee Government Building Ribbon Cutting</h3>\n\n<p data-end="224" data-start="104"><strong data-end="116" data-start="104">&#128197\; Date:</strong> Thursday\, June 26\, 2025<br data-end="143" data-start="140" />\n<strong data-end="154" data-start="143">&#9200\; Time:</strong> 10:30 AM<br data-end="166" data-start="163" />\n<strong data-end="182" data-start="166">&#128205\; Location:</strong> 10300 S. Bluejacket Road\, Wyandotte\, OK</p>\n\n<p data-end="320" data-start="226"><strong data-end="240" data-start="226">Event Bio:</strong><br data-end="243" data-start="240" />\n<span class="relative -mx-px my-[-0.2rem] rounded px-px py-[0.2rem] transition-colors duration-100 ease-in-out">Join the Eastern Shawnee Tribe of Oklahoma as they celebrate the official opening of their new Government Building in Wyandotte! This ribbon cutting marks an important milestone in their community development and governance. Come show your support for the tribe&rsquo\;s leaders and their advancing initiatives.</span></p>\n
LOCATION:Eastern Shawnee Government Building Ribbon Cutting 10300 S. Bluejacket Road\, Wyandotte\, OK
UID:e.2144.16646
SEQUENCE:3
DTSTAMP:20260424T074131Z
URL:https://www.neoshocc.com/events/details/eastern-shawnee-government-building-ribbon-cutting-16646
END:VEVENT

END:VCALENDAR
