BEGIN:VCALENDAR
VERSION:2.0
PRODID:-//ChamberMaster//Event Calendar 2.0//EN
METHOD:PUBLISH
X-PUBLISHED-TTL:P3D
REFRESH-INTERVAL:P3D
CALSCALE:GREGORIAN
BEGIN:VEVENT
DTSTART:20250223T000000Z
DTEND:20250223T030000Z
X-MICROSOFT-CDO-ALLDAYEVENT:FALSE
SUMMARY:Elijah Sawyer Band Live at Eastside Social
DESCRIPTION:Catch the Elijah Sawyer Band at Eastside Social!\n\nMark your calendars for an unforgettable night of live music on Saturday\, February 22nd\, from 6 pm to 9 pm. Enjoy great tunes\, good vibes\, and the perfect spot to hang out with friends.
X-ALT-DESC;FMTTYPE=text/html:<span style="font-size:14px"><strong>Catch the Elijah Sawyer Band at Eastside Social!</strong><br />\n<span style="color:rgb(35\, 31\, 32)\; font-family:brandon-grotesque">Mark your calendars for an unforgettable night of live music on </span><strong>Saturday\, February 22nd</strong><span style="color:rgb(35\, 31\, 32)\; font-family:brandon-grotesque">\, from </span><strong>6 pm to 9 pm</strong><span style="color:rgb(35\, 31\, 32)\; font-family:brandon-grotesque">. Enjoy great tunes\, good vibes\, and the perfect spot to hang out with friends.</span></span>
LOCATION:Eastside Social 113 S Washington St. Neosho\, Mo
UID:e.2144.14385
SEQUENCE:3
DTSTAMP:20260424T133225Z
URL:https://www.neoshocc.com/events/details/elijah-sawyer-band-live-at-eastside-social-14385
END:VEVENT

END:VCALENDAR
