BEGIN:VCALENDAR
VERSION:2.0
PRODID:-//ChamberMaster//Event Calendar 2.0//EN
METHOD:PUBLISH
X-PUBLISHED-TTL:P3D
REFRESH-INTERVAL:P3D
CALSCALE:GREGORIAN
BEGIN:VEVENT
DTSTART:20230119T180000Z
DTEND:20230119T190000Z
X-MICROSOFT-CDO-ALLDAYEVENT:FALSE
SUMMARY:EPIC Eats - January 2023
DESCRIPTION:Join us for networking and eating local! Meet up with other EPIC members\, share insights\, and dream big for 2023!
X-ALT-DESC;FMTTYPE=text/html:Join us for networking and eating local! Meet up with other EPIC members\, share insights\, and dream big for 2023!
LOCATION:Briar & Thistle Innovative Kitchen 107 E Main Street Neosho\, MO
UID:e.2144.9009
SEQUENCE:3
DTSTAMP:20260426T021146Z
URL:https://www.neoshocc.com/events/details/epic-eats-january-2023-9009
END:VEVENT

END:VCALENDAR
