BEGIN:VCALENDAR
VERSION:2.0
PRODID:-//ChamberMaster//Event Calendar 2.0//EN
METHOD:PUBLISH
X-PUBLISHED-TTL:P3D
REFRESH-INTERVAL:P3D
CALSCALE:GREGORIAN
BEGIN:VEVENT
DTSTART:20230303T000000Z
DTEND:20230303T020000Z
X-MICROSOFT-CDO-ALLDAYEVENT:FALSE
SUMMARY:EPIC Mix & Mingle
DESCRIPTION:Come check out the all new Sam's on Southside. Free appetizers and one drink ticket per guest are included. This is a great opportunity to network\, socialize\, and see a brand new business in downtown Neosho!
X-ALT-DESC;FMTTYPE=text/html:Come check out the all new Sam&#39\;s on Southside. Free appetizers and one drink ticket per guest are included. This is a great opportunity to network\, socialize\, and see a brand new business in downtown Neosho!
LOCATION:127 E Main Street\, Neosho\, MO 64850
UID:e.2144.9025
SEQUENCE:3
DTSTAMP:20260426T003931Z
URL:https://www.neoshocc.com/events/details/epic-mix-mingle-03-02-2023-9025
END:VEVENT

END:VCALENDAR
