BEGIN:VCALENDAR
VERSION:2.0
PRODID:-//ChamberMaster//Event Calendar 2.0//EN
METHOD:PUBLISH
X-PUBLISHED-TTL:P3D
REFRESH-INTERVAL:P3D
CALSCALE:GREGORIAN
BEGIN:VEVENT
DTSTART:20230808T163000Z
DTEND:20230808T173000Z
X-MICROSOFT-CDO-ALLDAYEVENT:FALSE
SUMMARY:EPIC Tour - Freeman Health System Performing Arts Center at Neosho High School
DESCRIPTION:EPIC Members are invited to join us for a tour of the Freeman Health System Performing Arts Center at Neosho High School. See behind the scenes of the recent addition to this amazing facility. \n\n\n\nSpace is limited. Reserve your seat by registering. \n\nBring your own lunch and eat after the tour. \n\n\n\nEPIC is the young professionals group for those 40 and younger. \n\n\n\nThank you to our 2023 EPIC Sponsors:\n\n Freeman Health System\, Crowder College\, KOAM-TV & Zimmer Marketing
X-ALT-DESC;FMTTYPE=text/html:EPIC Members are invited to join us for a tour of the&nbsp\;<span style="font-weight: bold\; color: rgb(95\, 99\, 104)\; font-family: Roboto\, arial\, sans-serif\; font-size: 14px\;">Freeman</span><span style="color: rgb(77\, 81\, 86)\; font-family: Roboto\, arial\, sans-serif\; font-size: 14px\;">&nbsp\;Health System&nbsp\;</span><span style="font-weight: bold\; color: rgb(95\, 99\, 104)\; font-family: Roboto\, arial\, sans-serif\; font-size: 14px\;">Performing Arts Center</span><span style="color: rgb(77\, 81\, 86)\; font-family: Roboto\, arial\, sans-serif\; font-size: 14px\;">&nbsp\;at&nbsp\;</span><span style="font-weight: bold\; color: rgb(95\, 99\, 104)\; font-family: Roboto\, arial\, sans-serif\; font-size: 14px\;">Neosho</span><span style="color: rgb(77\, 81\, 86)\; font-family: Roboto\, arial\, sans-serif\; font-size: 14px\;">&nbsp\;High School. See behind the scenes of the recent addition to this amazing facility.&nbsp\;<br />\n<br />\nSpace is limited. Reserve your seat by registering.&nbsp\;<br />\nBring your own lunch and eat after the tour.&nbsp\;<br />\n<br />\nEPIC is the young professionals group for those 40 and younger.&nbsp\;</span><br />\n<br />\n<em>Thank you to our 2023 EPIC Sponsors:<br />\n&#8203\;Freeman Health System\, Crowder College\, KOAM-TV &amp\; Zimmer Marketing</em>
LOCATION:Neosho High School Freeman Health System Performing Arts Center
UID:e.2144.10517
SEQUENCE:3
DTSTAMP:20260425T154738Z
URL:https://www.neoshocc.com/events/details/epic-tour-freeman-health-system-performing-arts-center-at-neosho-high-school-10517
END:VEVENT

END:VCALENDAR
