BEGIN:VCALENDAR
VERSION:2.0
PRODID:-//ChamberMaster//Event Calendar 2.0//EN
METHOD:PUBLISH
X-PUBLISHED-TTL:P3D
REFRESH-INTERVAL:P3D
CALSCALE:GREGORIAN
BEGIN:VEVENT
DTSTART:20250810T180000Z
DTEND:20250810T190000Z
X-MICROSOFT-CDO-ALLDAYEVENT:FALSE
SUMMARY:Expressions of the Soul
DESCRIPTION:George Washington Carver was a talented artist\, often inspired by the beauty of nature. This program "paints a picture" of Carver's love for art.
X-ALT-DESC;FMTTYPE=text/html:George Washington Carver was a talented artist\, often inspired by the beauty of nature. This program &quot\;paints a picture&quot\; of Carver&#39\;s love for art.
LOCATION:George Washington Carver National Monument 5646 Carver Rd Diamond\, MO. 64840
UID:e.2144.16698
SEQUENCE:3
DTSTAMP:20260424T043507Z
URL:https://www.neoshocc.com/events/details/expressions-of-the-soul-08-10-2025-16698
END:VEVENT

END:VCALENDAR
