BEGIN:VCALENDAR
VERSION:2.0
PRODID:-//ChamberMaster//Event Calendar 2.0//EN
METHOD:PUBLISH
X-PUBLISHED-TTL:P3D
REFRESH-INTERVAL:P3D
CALSCALE:GREGORIAN
BEGIN:VEVENT
DTSTART:20241210T233000Z
DTEND:20241211T013000Z
X-MICROSOFT-CDO-ALLDAYEVENT:FALSE
SUMMARY:Extraordinary Art Auction Presented by Rise Elementary
DESCRIPTION:Join us for an Extraordinary Art Auction presented by Rise Elementary.  Rise was recently donated a collection of prints by a local art collector.  Hot cocoa and cookies will be served.  Student created board games on display.  Students will be sharing about "Christmas Around the World".
X-ALT-DESC;FMTTYPE=text/html:Join us for an Extraordinary Art Auction presented by Rise Elementary.&nbsp\; Rise was recently donated a collection of prints by a local art collector.&nbsp\; Hot cocoa and cookies will be served.&nbsp\; Student created board games on display.&nbsp\; Students will be sharing about &quot\;Christmas Around the World&quot\;.
LOCATION:Rise Elementary
UID:e.2144.14180
SEQUENCE:3
DTSTAMP:20260424T161558Z
URL:https://www.neoshocc.com/events/details/extraordinary-art-auction-presented-by-rise-elementary-14180
END:VEVENT

END:VCALENDAR
