BEGIN:VCALENDAR
VERSION:2.0
PRODID:-//ChamberMaster//Event Calendar 2.0//EN
METHOD:PUBLISH
X-PUBLISHED-TTL:P3D
REFRESH-INTERVAL:P3D
CALSCALE:GREGORIAN
BEGIN:VEVENT
DTSTART:20250125T220000Z
DTEND:20250126T010000Z
X-MICROSOFT-CDO-ALLDAYEVENT:FALSE
SUMMARY:Faithful Friends Animal Advocates Souper Supper
DESCRIPTION:Join us for a warm bowl of soup and support a great cause\, plus enjoy a dessert auction and raffle prizes!
X-ALT-DESC;FMTTYPE=text/html:Join us for a warm bowl of soup and support a great cause\, plus enjoy a dessert auction and raffle prizes!
LOCATION:Rocketdyne Road Church of Christ 1111 Rocketdyne Rd.\, Neosho\, MO 64850
UID:e.2144.14145
SEQUENCE:3
DTSTAMP:20260424T151818Z
URL:https://www.neoshocc.com/events/details/faithful-friends-animal-advocates-souper-supper-14145
END:VEVENT

END:VCALENDAR
