BEGIN:VCALENDAR
VERSION:2.0
PRODID:-//ChamberMaster//Event Calendar 2.0//EN
METHOD:PUBLISH
X-PUBLISHED-TTL:P3D
REFRESH-INTERVAL:P3D
CALSCALE:GREGORIAN
BEGIN:VEVENT
DTSTART:20251219T160000Z
DTEND:20251219T180000Z
X-MICROSOFT-CDO-ALLDAYEVENT:FALSE
SUMMARY:Fall 2025 Homeschool Schedule
DESCRIPTION:Homeschool students!! Join us as we explore and learn about the human body and do hands-on activities each session!
X-ALT-DESC;FMTTYPE=text/html:<p><span style="color:rgba(0\,0\,0\,var(--O42jJQ\,1))">Homeschool students!! Join us as we explore and learn about the human body</span><span style="color:rgba(0\,0\,0\,var(--O42jJQ\,1))">&nbsp\;</span><span style="color:rgba(0\,0\,0\,var(--O42jJQ\,1))">and do hands-on activities each session!</span><span style="color:rgba(0\,0\,0\,var(--O42jJQ\,1))"> </span></p>\n
LOCATION:201 W Spring St Neosho\, MO 64850
UID:e.2144.18568
SEQUENCE:3
DTSTAMP:20260423T224728Z
URL:https://www.neoshocc.com/events/details/fall-2025-homeschool-schedule-12-19-2025-18568
END:VEVENT

END:VCALENDAR
