BEGIN:VCALENDAR
VERSION:2.0
PRODID:-//ChamberMaster//Event Calendar 2.0//EN
METHOD:PUBLISH
X-PUBLISHED-TTL:P3D
REFRESH-INTERVAL:P3D
CALSCALE:GREGORIAN
BEGIN:VEVENT
DTSTART;VALUE=DATE:20250918
DTEND;VALUE=DATE:20250919
TRANSP:TRANSPARENT
X-MICROSOFT-CDO-ALLDAYEVENT:TRUE
SUMMARY:Fall Golf Scramble 2025
DESCRIPTION:We are excited to announce the NACC Fall Golf Scramble Presented by Freeman Health.  4 Person Scramble\, One Team Member must be a Chamber Member.  Registration includes cart rental\, lunch & complimentary cheer cart.
X-ALT-DESC;FMTTYPE=text/html:We are excited to announce the NACC Fall Golf Scramble Presented by Freeman Health.&nbsp\; 4 Person Scramble\, One Team Member must be a Chamber Member.&nbsp\; Registration includes cart rental\, lunch &amp\; complimentary cheer cart.
LOCATION:Neosho Municipal Golf Course
UID:e.2144.16656
SEQUENCE:3
DTSTAMP:20260424T025520Z
URL:https://www.neoshocc.com/events/details/fall-golf-scramble-2025-16656
END:VEVENT

END:VCALENDAR
