BEGIN:VCALENDAR
VERSION:2.0
PRODID:-//ChamberMaster//Event Calendar 2.0//EN
METHOD:PUBLISH
X-PUBLISHED-TTL:P3D
REFRESH-INTERVAL:P3D
CALSCALE:GREGORIAN
BEGIN:VEVENT
DTSTART:20230627T223000Z
DTEND:20230628T000000Z
X-MICROSOFT-CDO-ALLDAYEVENT:FALSE
SUMMARY:Family Bingo Night
DESCRIPTION:Oak Pointe of Neosho will be holding a our family bingo night. Please RSVP by June 23rd.
X-ALT-DESC;FMTTYPE=text/html:Oak Pointe of Neosho will be holding a our family bingo night. Please RSVP by June 23rd.
LOCATION:2601 Oak Ridge Extension Neosho\, MO 64850
UID:e.2144.10448
SEQUENCE:3
DTSTAMP:20260425T184704Z
URL:https://www.neoshocc.com/events/details/family-bingo-night-10448
END:VEVENT

END:VCALENDAR
