BEGIN:VCALENDAR
VERSION:2.0
PRODID:-//ChamberMaster//Event Calendar 2.0//EN
METHOD:PUBLISH
X-PUBLISHED-TTL:P3D
REFRESH-INTERVAL:P3D
CALSCALE:GREGORIAN
BEGIN:VEVENT
DTSTART:20251002T150000Z
DTEND:20251004T220000Z
X-MICROSOFT-CDO-ALLDAYEVENT:FALSE
SUMMARY:Family Resale Shop Sidewalk Sale
DESCRIPTION:We are having a Sidewalk sale!! Clothing starting at just 50 cents each!! You won't find a better deal than this! Hope to see you there!!
X-ALT-DESC;FMTTYPE=text/html:<span data-olk-copy-source="MailCompose" style="font-family: Aptos\, Aptos_EmbeddedFont\, Aptos_MSFontService\, Calibri\, Helvetica\, sans-serif\; font-size: 12pt\; color: rgb(0\, 0\, 0)\;">We are having a Sidewalk sale!! Clothing starting at just 50 cents each!! You won&#39\;t find a better deal than this! Hope to see you there!!</span>
LOCATION:Family Resale Shop 115 S Neosho blvd\, Suite D Neosho\, Mo.
UID:e.2144.18518
SEQUENCE:3
DTSTAMP:20260424T015154Z
URL:https://www.neoshocc.com/events/details/family-resale-shop-sidewalk-sale-18518
END:VEVENT

END:VCALENDAR
