BEGIN:VCALENDAR
VERSION:2.0
PRODID:-//ChamberMaster//Event Calendar 2.0//EN
METHOD:PUBLISH
X-PUBLISHED-TTL:P3D
REFRESH-INTERVAL:P3D
CALSCALE:GREGORIAN
BEGIN:VEVENT
DTSTART:20250719T180000Z
DTEND:20250719T190000Z
X-MICROSOFT-CDO-ALLDAYEVENT:FALSE
SUMMARY:Farmward to the Future
DESCRIPTION:Known as the "first and greatest chemurgist\," George W. Carver used produce from the farm to make industrial products. Learn about the chemurgy movement with a ranger and "chemicalize the farm" with a hands-on bioplastics \n\ndemonstration.
X-ALT-DESC;FMTTYPE=text/html:<div>Known as the &ldquo\;first and greatest chemurgist\,&quot\; George W. Carver used produce from the farm to make industrial products.&nbsp\;Learn about the chemurgy movement with a ranger and &ldquo\;chemicalize the farm&rdquo\; with a hands-on bioplastics&nbsp\;</div>\n\n<div>demonstration.</div>\n
LOCATION:George Washington Carver NM 5646 Carver Rd. Diamond MO 64840
UID:e.2144.16690
SEQUENCE:3
DTSTAMP:20260424T073834Z
URL:https://www.neoshocc.com/events/details/farmward-to-the-future-16690
END:VEVENT

END:VCALENDAR
