BEGIN:VCALENDAR
VERSION:2.0
PRODID:-//ChamberMaster//Event Calendar 2.0//EN
METHOD:PUBLISH
X-PUBLISHED-TTL:P3D
REFRESH-INTERVAL:P3D
CALSCALE:GREGORIAN
BEGIN:VEVENT
DTSTART:20230223T123000Z
DTEND:20230223T140000Z
X-MICROSOFT-CDO-ALLDAYEVENT:FALSE
SUMMARY:FFA Businessman's Breakfast
DESCRIPTION:Neosho FFA's Annual Businessman's Breakfast.  Join the Neosho FFA for a free appreciation breakfast on Thursday\, February 23rd from 6:30 am to 8 am in the Neosho High School Ag. Building
X-ALT-DESC;FMTTYPE=text/html:Neosho FFA&#39\;s Annual Businessman&#39\;s Breakfast.&nbsp\; Join the Neosho FFA for a free appreciation breakfast on Thursday\, February 23rd from 6:30 am to 8 am in the Neosho High School Ag. Building
LOCATION:Neosho High School Ag Building
UID:e.2144.9093
SEQUENCE:3
DTSTAMP:20260426T003809Z
URL:https://www.neoshocc.com/events/details/ffa-businessman-s-breakfast-9093
END:VEVENT

END:VCALENDAR
