BEGIN:VCALENDAR
VERSION:2.0
PRODID:-//ChamberMaster//Event Calendar 2.0//EN
METHOD:PUBLISH
X-PUBLISHED-TTL:P3D
REFRESH-INTERVAL:P3D
CALSCALE:GREGORIAN
BEGIN:VEVENT
DTSTART:20250705T180000Z
DTEND:20250705T190000Z
X-MICROSOFT-CDO-ALLDAYEVENT:FALSE
SUMMARY:Film: Becoming Frederick Douglass
DESCRIPTION:Join us this Fourth of July weekend to celebrate Frederick Douglass and his legacy with this documentary film (60 min). Born enslaved\, Douglass rose to prominence as a statesman\, abolitionist\, and voice for democracy and civil rights in American history.
X-ALT-DESC;FMTTYPE=text/html:Join us this Fourth of July weekend to celebrate Frederick Douglass and his legacy with this documentary film (60 min).&nbsp\;Born enslaved\, Douglass rose to prominence as a statesman\,&nbsp\;abolitionist\, and voice for democracy and&nbsp\;civil rights in American history.
LOCATION:George Washington Carver NM 5646 Carver Rd. Diamond MO 64840
UID:e.2144.16688
SEQUENCE:3
DTSTAMP:20260424T074225Z
URL:https://www.neoshocc.com/events/details/film-becoming-frederick-douglass-07-05-2025-16688
END:VEVENT

END:VCALENDAR
