BEGIN:VCALENDAR
VERSION:2.0
PRODID:-//ChamberMaster//Event Calendar 2.0//EN
METHOD:PUBLISH
X-PUBLISHED-TTL:P3D
REFRESH-INTERVAL:P3D
CALSCALE:GREGORIAN
BEGIN:VEVENT
DTSTART:20250803T180000Z
DTEND:20250803T190000Z
X-MICROSOFT-CDO-ALLDAYEVENT:FALSE
SUMMARY:FILM: GEORGE WASHINGTON CARVER: AN UNCOMMON LIFE
DESCRIPTION:This 56-minute documentary highlights George Washington Carver's complexities and reveals the full impact of his life and work.
X-ALT-DESC;FMTTYPE=text/html:<span style="color:black !important\; font-family:calibri\,arial\,helvetica\,sans-serif\,serif\,emojifont\; font-size:16pt">This 56-minute documentary highlights George Washington Carver&rsquo\;s&nbsp\;</span><span style="color:black !important\; font-family:calibri\,arial\,helvetica\,sans-serif\,serif\,emojifont\; font-size:21.32px">complexities and</span><span style="color:black !important\; font-family:calibri\,arial\,helvetica\,sans-serif\,serif\,emojifont\; font-size:16pt">&nbsp\;reveals the full impact of his life and work.</span>
LOCATION:George Washington Carver National Monument 5646 Carver Road Diamond\, MO 64840
UID:e.2144.16696
SEQUENCE:3
DTSTAMP:20260424T043533Z
URL:https://www.neoshocc.com/events/details/film-george-washington-carver-an-uncommon-life-08-03-2025-16696
END:VEVENT

END:VCALENDAR
