BEGIN:VCALENDAR
VERSION:2.0
PRODID:-//ChamberMaster//Event Calendar 2.0//EN
METHOD:PUBLISH
X-PUBLISHED-TTL:P3D
REFRESH-INTERVAL:P3D
CALSCALE:GREGORIAN
BEGIN:VEVENT
DTSTART:20260131T060000Z
DTEND:20260201T050000Z
X-MICROSOFT-CDO-ALLDAYEVENT:FALSE
SUMMARY:Film: More Than a Month
DESCRIPTION:This PBS documentary film examines the complexities and contradictions behind Black History Month
X-ALT-DESC;FMTTYPE=text/html:This PBS documentary film examines the complexities and contradictions behind Black History Month
LOCATION:George Washington Carver National Monument 5646 Carver Rd. Diamond\, MO 64840
UID:e.2144.18856
SEQUENCE:3
DTSTAMP:20260423T210904Z
URL:https://www.neoshocc.com/events/details/film-more-than-a-month-01-31-2026-18856
END:VEVENT

END:VCALENDAR
