BEGIN:VCALENDAR
VERSION:2.0
PRODID:-//ChamberMaster//Event Calendar 2.0//EN
METHOD:PUBLISH
X-PUBLISHED-TTL:P3D
REFRESH-INTERVAL:P3D
CALSCALE:GREGORIAN
BEGIN:VEVENT
DTSTART:20260329T060000Z
DTEND:20260329T070000Z
X-MICROSOFT-CDO-ALLDAYEVENT:FALSE
SUMMARY:Finding Your Financial Bliss
DESCRIPTION:Finding Your Financial Bliss\n\nDate: Sunday\, March 29   1 2 PM CST\n\nShort Promo:\n\nRewrite your financial story with confidence and clarity.\n\nEvent Description:\n\nThis workshop transforms the way you think about money   from stress to empowerment. Learn how to create a financial life grounded in awareness\, intentionality\, and peace.\n\nWhether you're rebuilding\, saving\, or expanding\, this session will guide you toward financial freedom.\n\nYou'll Learn:\n\n  Healthy money mindset shifts\n\n  Simple tools to reduce financial stress\n\n  How to create a personal financial empowerment plan\n\nWho This Is For:\n\nAnyone wanting more clarity and confidence around money.\n\nCTA:\n\nRegister now and take ownership of your financial future.\n\nhttps://www.livebliss.org/event-details/finding-your-financial-bliss
X-ALT-DESC;FMTTYPE=text/html:<h3><span style="color:rgb(0\, 0\, 0)"><span style="color:rgb(67\, 67\, 67)\; font-family:arial\,sans-serif\; font-size:14pt">Finding Your Financial Bliss</span></span></h3>\n\n<p><span style="color:rgb(0\, 0\, 0)"><strong>Date:</strong><span style="font-family:tenor sans\,sans-serif\; font-size:11pt"> Sunday\, March 29 &bull\; 1&ndash\;2 PM CST</span></span></p>\n\n<p><span style="color:rgb(0\, 0\, 0)"><strong>Short Promo:</strong></span></p>\n\n<p><span style="color:rgb(0\, 0\, 0)"><span style="font-family:tenor sans\,sans-serif\; font-size:11pt">Rewrite your financial story with confidence and clarity.</span></span></p>\n\n<p><span style="color:rgb(0\, 0\, 0)"><strong>Event Description:</strong></span></p>\n\n<p><span style="color:rgb(0\, 0\, 0)"><span style="font-family:tenor sans\,sans-serif\; font-size:11pt">This workshop transforms the way you think about money &mdash\; from stress to empowerment. Learn how to create a financial life grounded in awareness\, intentionality\, and peace.</span></span></p>\n\n<p><span style="color:rgb(0\, 0\, 0)"><span style="font-family:tenor sans\,sans-serif\; font-size:11pt">Whether you&rsquo\;re rebuilding\, saving\, or expanding\, this session will guide you toward financial freedom.</span></span></p>\n\n<p><span style="color:rgb(0\, 0\, 0)"><strong>You&rsquo\;ll Learn:</strong></span></p>\n\n<p><span style="color:rgb(0\, 0\, 0)"><span style="font-family:tenor sans\,sans-serif\; font-size:11pt">&bull\; Healthy money mindset shifts</span></span></p>\n\n<p><span style="color:rgb(0\, 0\, 0)"><span style="font-family:tenor sans\,sans-serif\; font-size:11pt">&bull\; Simple tools to reduce financial stress</span></span></p>\n\n<p><span style="color:rgb(0\, 0\, 0)"><span style="font-family:tenor sans\,sans-serif\; font-size:11pt">&bull\; How to create a personal financial empowerment plan</span></span></p>\n\n<p><span style="color:rgb(0\, 0\, 0)"><strong>Who This Is For:</strong></span></p>\n\n<p><span style="color:rgb(0\, 0\, 0)"><span style="font-family:tenor sans\,sans-serif\; font-size:11pt">Anyone wanting more clarity and confidence around money.</span></span></p>\n\n<p><span style="color:rgb(0\, 0\, 0)"><strong>CTA:</strong></span></p>\n\n<p><span style="color:rgb(0\, 0\, 0)"><span style="font-family:tenor sans\,sans-serif\; font-size:11pt">Register now and take ownership of your financial future.</span></span></p>\n\n<p><span style="color:rgb(0\, 0\, 0)"><a href="https://www.livebliss.org/event-details/finding-your-financial-bliss" style="text-decoration: none\;"><u>https://www.livebliss.org/event-details/finding-your-financial-bliss</u></a></span></p>\n
LOCATION:404 S Neosho Blvd Suite D Neosho MO 64850
UID:e.2144.18839
SEQUENCE:3
DTSTAMP:20260423T180138Z
URL:https://www.neoshocc.com/events/details/finding-your-financial-bliss-18839
END:VEVENT

END:VCALENDAR
