BEGIN:VCALENDAR
VERSION:2.0
PRODID:-//ChamberMaster//Event Calendar 2.0//EN
METHOD:PUBLISH
X-PUBLISHED-TTL:P3D
REFRESH-INTERVAL:P3D
CALSCALE:GREGORIAN
BEGIN:VEVENT
DTSTART:20230804T123000Z
DTEND:20230804T133000Z
X-MICROSOFT-CDO-ALLDAYEVENT:FALSE
SUMMARY:First Friday Coffee - Granby Telephone Company
DESCRIPTION:Join GTC Broadband and NACC for First Friday Coffee. Come network and enjoy breakfast treats.
X-ALT-DESC;FMTTYPE=text/html:Join GTC Broadband and NACC for First Friday Coffee. Come network and enjoy breakfast treats.
LOCATION:GTC Broadband 126 S. Beaver AVe Granby\, MO
UID:e.2144.9032
SEQUENCE:3
DTSTAMP:20260425T154326Z
URL:https://www.neoshocc.com/events/details/first-friday-coffee-granby-telephone-company-9032
END:VEVENT

END:VCALENDAR
