BEGIN:VCALENDAR
VERSION:2.0
PRODID:-//ChamberMaster//Event Calendar 2.0//EN
METHOD:PUBLISH
X-PUBLISHED-TTL:P3D
REFRESH-INTERVAL:P3D
CALSCALE:GREGORIAN
BEGIN:VEVENT
DTSTART:20250612T140000Z
DTEND:20250612T210000Z
X-MICROSOFT-CDO-ALLDAYEVENT:FALSE
SUMMARY:First Responder Appreciation Day
DESCRIPTION:We're proud to help spread the word about an incredible event hosted by Black Rain Ordnance   the 2025 First Responder Appreciation Day! This free day of fun\, food\, and recognition is open to all first responders as a heartfelt thank-you for your service and sacrifice.\n\n  Date: Thursday\, June 12\, 2025\n\n  Time: 9:00 AM   4:00 PM\n\n  Location: Black Rain Ordnance\, 11633 Iris Rd.\, Neosho\, MO 64850\n\nAttendees can enjoy:\n\n\n	\n	Product Demos\n	\n	\n	Guided Facility Tours\n	\n	\n	Free Lunch\n	\n	\n	Door Prize Drawings\n	\n	\n	Long-Range & Pistol/Carbine Range Access\n	\n	\n	On-Site Vendors\n	\n	\n	And more!\n	\n\n\nIt's a great opportunity to explore Black Rain's impressive facility\, connect with fellow first responders\, and enjoy a well-deserved day of appreciation.\n\n  Scan the QR code on the flyer to register and secure your spot!\n\nLet's show our support by helping get the word out and encouraging local first responders to attend this special event.
X-ALT-DESC;FMTTYPE=text/html:<p data-end="489" data-start="208">We&rsquo\;re proud to help spread the word about an incredible event hosted by <strong data-end="303" data-start="280">Black Rain Ordnance</strong> &mdash\; the <strong data-end="351" data-start="310">2025 First Responder Appreciation Day</strong>! This <strong data-end="366" data-start="358">free</strong> day of fun\, food\, and recognition is open to all first responders as a heartfelt thank-you for your service and sacrifice.</p>\n\n<p data-end="633" data-start="491">&#128197\; <strong data-end="503" data-start="494">Date:</strong> Thursday\, June 12\, 2025<br data-end="530" data-start="527" />\n&#128344\; <strong data-end="542" data-start="533">Time:</strong> 9:00 AM &ndash\; 4:00 PM<br data-end="563" data-start="560" />\n&#128205\; <strong data-end="579" data-start="566">Location:</strong> Black Rain Ordnance\, 11633 Iris Rd.\, Neosho\, MO 64850</p>\n\n<p data-end="655" data-start="635">Attendees can enjoy:</p>\n\n<ul data-end="815" data-start="656">\n	<li data-end="673" data-start="656">\n	<p data-end="673" data-start="658">Product Demos</p>\n	</li>\n	<li data-end="699" data-start="674">\n	<p data-end="699" data-start="676">Guided Facility Tours</p>\n	</li>\n	<li data-end="714" data-start="700">\n	<p data-end="714" data-start="702">Free Lunch</p>\n	</li>\n	<li data-end="738" data-start="715">\n	<p data-end="738" data-start="717">Door Prize Drawings</p>\n	</li>\n	<li data-end="783" data-start="739">\n	<p data-end="783" data-start="741">Long-Range &amp\; Pistol/Carbine Range Access</p>\n	</li>\n	<li data-end="803" data-start="784">\n	<p data-end="803" data-start="786">On-Site Vendors</p>\n	</li>\n	<li data-end="815" data-start="804">\n	<p data-end="815" data-start="806">And more!</p>\n	</li>\n</ul>\n\n<p data-end="971" data-start="817">It&rsquo\;s a great opportunity to explore Black Rain&rsquo\;s impressive facility\, connect with fellow first responders\, and enjoy a well-deserved day of appreciation.</p>\n\n<p data-end="1165" data-start="973">&#128073\; <strong data-end="1043" data-start="976">Scan the QR code on the flyer to register and secure your spot!</strong><br data-end="1046" data-start="1043" />\nLet&rsquo\;s show our support by helping get the word out and encouraging local first responders to attend this special event.</p>\n
LOCATION:Black Rain Ordnance 11633 Iris Rd. Neosho\, Mo. 64850
UID:e.2144.16622
SEQUENCE:3
DTSTAMP:20260424T073711Z
URL:https://www.neoshocc.com/events/details/first-responder-appreciation-day-16622
END:VEVENT

END:VCALENDAR
