BEGIN:VCALENDAR
VERSION:2.0
PRODID:-//ChamberMaster//Event Calendar 2.0//EN
METHOD:PUBLISH
X-PUBLISHED-TTL:P3D
REFRESH-INTERVAL:P3D
CALSCALE:GREGORIAN
BEGIN:VEVENT
DTSTART:20230624T000000Z
DTEND:20230624T010000Z
X-MICROSOFT-CDO-ALLDAYEVENT:FALSE
SUMMARY:Flamenco Music & Dance Workshop with A’lante Flamenco
DESCRIPTION:Join Connect2Culture\, Olivia Chac n\, and the dancers and musicians of A'lante Flamenco for an introductory workshop to flamenco music and dance! No experience necessary. Ticket holders to A'lante Flamenco's performance on Saturday\, June 24th receive a discount on admission. For more information about A'lante Flamenco's performance\, visit connect2culture.org/alante-flamenco. Payment for the workshop will be accepted at the door. Supported in part by the Mid-America Arts Alliance with additional support from the National Endowment for the Arts. Admission: Ticket Holders: $3\, Non-Ticket Holders $6.
X-ALT-DESC;FMTTYPE=text/html:Join Connect2Culture\, Olivia Chac&oacute\;n\, and the dancers and musicians of A&#39\;lante Flamenco for an introductory workshop to flamenco music and dance! No experience necessary. Ticket holders to A&#39\;lante Flamenco&#39\;s performance on Saturday\, June 24th receive a discount on admission. For more information about A&#39\;lante Flamenco&#39\;s performance\, visit connect2culture.org/alante-flamenco. Payment for the workshop will be accepted at the door. Supported in part by the Mid-America Arts Alliance with additional support from the National Endowment for the Arts. Admission: Ticket Holders: $3\, Non-Ticket Holders $6.
LOCATION:At the Harry M. Cornell Arts & Entertainment Complex\, Beshore Performance Hall 212 W 7th Street Joplin\, MO 64801
UID:e.2144.9932
SEQUENCE:3
DTSTAMP:20260425T185048Z
URL:https://www.neoshocc.com/events/details/flamenco-music-dance-workshop-with-a-lante-flamenco-9932
END:VEVENT

END:VCALENDAR
