BEGIN:VCALENDAR
VERSION:2.0
PRODID:-//ChamberMaster//Event Calendar 2.0//EN
METHOD:PUBLISH
X-PUBLISHED-TTL:P3D
REFRESH-INTERVAL:P3D
CALSCALE:GREGORIAN
BEGIN:VEVENT
DTSTART:20230916T130000Z
DTEND:20230916T200000Z
X-MICROSOFT-CDO-ALLDAYEVENT:FALSE
SUMMARY:Flower Box City Newcomers' Club Rummage Sale
DESCRIPTION:The Flower Box City Newcomers' Club Rummage Sale!\n\n\n\nLarge men's T-shirts\, pants and lots of miscellaneous. Proceeds go towards Crowder College Scholarships and causes in our community.
X-ALT-DESC;FMTTYPE=text/html:The Flower Box City Newcomers&#39\; Club Rummage Sale!<br />\n<br />\n<span style="color:#26282A\;"><span style="font-family:helvetica\,sans-serif\;"><span style="font-size:10.0pt\;">Large men&#39\;s T-shirts\, pants and lots of miscellaneous. Proceeds go towards Crowder College Scholarships and causes in our community.&nbsp\;</span></span></span><br />\n&nbsp\;<br />\n&nbsp\;
LOCATION:The Lampo Building 500 E Spring Street Neosho\, MO 64850
UID:e.2144.10771
SEQUENCE:3
DTSTAMP:20260425T141200Z
URL:https://www.neoshocc.com/events/details/flower-box-city-newcomers-club-rummage-sale-10771
END:VEVENT

END:VCALENDAR
