BEGIN:VCALENDAR
VERSION:2.0
PRODID:-//ChamberMaster//Event Calendar 2.0//EN
METHOD:PUBLISH
X-PUBLISHED-TTL:P3D
REFRESH-INTERVAL:P3D
CALSCALE:GREGORIAN
BEGIN:VEVENT
DTSTART:20241125T150000Z
DTEND:20250124T020000Z
X-MICROSOFT-CDO-ALLDAYEVENT:FALSE
SUMMARY:"Folk Tales" Art Exhibit at the Crowder College Longwell Museum
DESCRIPTION:The Crowder College Longwell Museum will host the Folk Tales art exhibit with artwork from local artist Jared Jennings. The exhibit will be open from November 25th through January 23rd. A Reception will be held on January 23rd (last day of exhibit) from 5 pm to 7 pm. Free and open to the public\, the exhibit is open Monday   Friday 9 am-6 pm (Closed on holidays).\n\n\n\nThe Longwell Museum is located in the Elsie Plaster Community Center at Crowder College. (601 Laclede Ave.\, Neosho\, MO 64850).
X-ALT-DESC;FMTTYPE=text/html:The Crowder College Longwell Museum will host the Folk Tales art exhibit with artwork from local artist Jared Jennings. The exhibit will be open from November 25th through January 23rd. A Reception will be held on January 23rd (last day of exhibit) from 5 pm to 7 pm. Free and open to the public\, the exhibit is open Monday &ndash\; Friday 9 am-6 pm (Closed on holidays).<br />\n<br />\nThe Longwell Museum is located in the Elsie Plaster Community Center at Crowder College. (601 Laclede Ave.\, Neosho\, MO 64850).
LOCATION:The Longwell Museum\, Elsie Plaster Community Center Crowder College. (601 Laclede Ave.\, Neosho\, MO 64850)
UID:e.2144.14136
SEQUENCE:3
DTSTAMP:20260424T161533Z
URL:https://www.neoshocc.com/events/details/folk-tales-art-exhibit-at-the-crowder-college-longwell-museum-14136
END:VEVENT

END:VCALENDAR
