BEGIN:VCALENDAR
VERSION:2.0
PRODID:-//ChamberMaster//Event Calendar 2.0//EN
METHOD:PUBLISH
X-PUBLISHED-TTL:P3D
REFRESH-INTERVAL:P3D
CALSCALE:GREGORIAN
BEGIN:VEVENT
DTSTART:20251031T000000Z
DTEND:20251031T013000Z
X-MICROSOFT-CDO-ALLDAYEVENT:FALSE
SUMMARY:Free Christian Comedy Show
DESCRIPTION:An Evening of Laughter & Inspiration with Trevor Thomas! ?? Join us at Monark Baptist Church on Thursday\, October 30th at 7:00 PM for a night of clean comedy\, heartfelt stories\, and uplifting entertainment with Christian comedian Trevor Thomas! Trevor's unique blend of humor and faith will leave you laughing\, encouraged\, and reminded of the joy we have in Christ. Whether you're bringing the whole family or inviting a friend who could use a smile\, this is one event you won't want to miss! ?? Monark Baptist Church ??? October 30th ?? 7:00 PM ??? Free Admission   All are welcome! ?? Supporting Trevor Thomas's Ministry ?? To help continue his ministry of sharing the Gospel through comedy\, we'll be collecting a love offering during the event. Your generosity will go directly toward supporting Trevor's mission to bring joy and truth to audiences across the country. ?? Trevor will also have a table set up with items available for purchase\, including:   CDs & DVDs of his performances   Signed photos   Other fun keepsakes to remember the evening! Come ready to laugh\, be uplifted\, and support a ministry that's making a difference   one smile at a time!
X-ALT-DESC;FMTTYPE=text/html:An Evening of Laughter &amp\; Inspiration with Trevor Thomas! ?? Join us at Monark Baptist Church on Thursday\, October 30th at 7:00 PM for a night of clean comedy\, heartfelt stories\, and uplifting entertainment with Christian comedian Trevor Thomas! Trevor&rsquo\;s unique blend of humor and faith will leave you laughing\, encouraged\, and reminded of the joy we have in Christ. Whether you&rsquo\;re bringing the whole family or inviting a friend who could use a smile\, this is one event you won&rsquo\;t want to miss! ?? Monark Baptist Church ??? October 30th ?? 7:00 PM ??? Free Admission &mdash\; All are welcome! ?? Supporting Trevor Thomas&rsquo\;s Ministry ?? To help continue his ministry of sharing the Gospel through comedy\, we&rsquo\;ll be collecting a love offering during the event. Your generosity will go directly toward supporting Trevor&rsquo\;s mission to bring joy and truth to audiences across the country. ?? Trevor will also have a table set up with items available for purchase\, including: &bull\; CDs &amp\; DVDs of his performances &bull\; Signed photos &bull\; Other fun keepsakes to remember the evening! Come ready to laugh\, be uplifted\, and support a ministry that&rsquo\;s making a difference &mdash\; one smile at a time!
LOCATION:18472 Linden Dr.\, Neosho\, MO 64850
UID:e.2144.18548
SEQUENCE:3
DTSTAMP:20260424T014829Z
URL:https://www.neoshocc.com/events/details/free-christian-comedy-show-18548
END:VEVENT

END:VCALENDAR
