BEGIN:VCALENDAR
VERSION:2.0
PRODID:-//ChamberMaster//Event Calendar 2.0//EN
METHOD:PUBLISH
X-PUBLISHED-TTL:P3D
REFRESH-INTERVAL:P3D
CALSCALE:GREGORIAN
BEGIN:VEVENT
DTSTART;VALUE=DATE:20241231
DTEND;VALUE=DATE:20250122
TRANSP:TRANSPARENT
X-MICROSOFT-CDO-ALLDAYEVENT:TRUE
SUMMARY:FREE COMMUNITY BINGO SPONSORED BY HENLEY PLACE OF NEOSHO
DESCRIPTION:FREE COMMUNITY BINGO
X-ALT-DESC;FMTTYPE=text/html:<strong>FREE COMMUNITY BINGO&nbsp\;</strong>
LOCATION:1105 VILLAGE RD. NEOSHO\, MO 64850
UID:e.2144.14373
SEQUENCE:3
DTSTAMP:20260424T151830Z
URL:https://www.neoshocc.com/events/details/free-community-bingo-sponsored-by-henley-place-of-neosho-14373
END:VEVENT

END:VCALENDAR
