BEGIN:VCALENDAR
VERSION:2.0
PRODID:-//ChamberMaster//Event Calendar 2.0//EN
METHOD:PUBLISH
X-PUBLISHED-TTL:P3D
REFRESH-INTERVAL:P3D
CALSCALE:GREGORIAN
BEGIN:VEVENT
DTSTART:20241007T230000Z
DTEND:20241008T010000Z
X-MICROSOFT-CDO-ALLDAYEVENT:FALSE
SUMMARY:Free Grant Writing Workshop: Presented by Monark Baptist
DESCRIPTION:Monark Baptist will be hosting a free grant-writing workshop. Plenty of seating is available. This could benefit multiple types of organizations\, not just churches.
X-ALT-DESC;FMTTYPE=text/html:Monark Baptist will be hosting a free grant-writing workshop. Plenty of seating is available. This could benefit multiple types of organizations\, not just churches.
LOCATION:18472 Linden Dr. Neosho\, MO
UID:e.2144.13088
SEQUENCE:3
DTSTAMP:20260424T190515Z
URL:https://www.neoshocc.com/events/details/free-grant-writing-workshop-presented-by-monark-baptist-13088
END:VEVENT

END:VCALENDAR
