BEGIN:VCALENDAR
VERSION:2.0
PRODID:-//ChamberMaster//Event Calendar 2.0//EN
METHOD:PUBLISH
X-PUBLISHED-TTL:P3D
REFRESH-INTERVAL:P3D
CALSCALE:GREGORIAN
BEGIN:VEVENT
DTSTART:20250718T230000Z
DTEND:20250719T020000Z
X-MICROSOFT-CDO-ALLDAYEVENT:FALSE
SUMMARY:Free Movie Screening: Audrey's Children
DESCRIPTION:Join Ronald McDonald House Charities of the Four States for a free movie night featuring Audrey's Children (2025)\, the inspiring true story of Dr. Audrey Evans trailblazing oncologist and co-founder of Ronald McDonald House Charities. Enjoy fresh popcorn\, Coca-Cola\, and McDonald's cookies as you watch this powerful film that highlights how one woman's courage sparked a global movement to support families with sick children. We'll also share our own local founding story and the difference one determined family made right here in our community. Admission is free. RSVP at rmhjoplin.org/events/audreys-children/. This event is generously supported by Central Christian Center\, Ozarks Coca-Cola\, Hoag Restaurant Equipment\, and our local McDonald's restaurants.
X-ALT-DESC;FMTTYPE=text/html:Join Ronald McDonald House Charities of the Four States for a free movie night featuring Audrey&rsquo\;s Children (2025)\, the inspiring true story of Dr. Audrey Evans&mdash\;trailblazing oncologist and co-founder of Ronald McDonald House Charities. Enjoy fresh popcorn\, Coca-Cola\, and McDonald&rsquo\;s cookies as you watch this powerful film that highlights how one woman&rsquo\;s courage sparked a global movement to support families with sick children. We&rsquo\;ll also share our own local founding story&mdash\;and the difference one determined family made right here in our community. Admission is free. RSVP at rmhjoplin.org/events/audreys-children/. This event is generously supported by Central Christian Center\, Ozarks Coca-Cola\, Hoag Restaurant Equipment\, and our local McDonald&rsquo\;s restaurants.
LOCATION:The historic Central Christian Center\, located at 410 S. Virginia Avenue in downtown Joplin.
UID:e.2144.16712
SEQUENCE:3
DTSTAMP:20260424T060757Z
URL:https://www.neoshocc.com/events/details/free-movie-screening-audrey-s-children-16712
END:VEVENT

END:VCALENDAR
