BEGIN:VCALENDAR
VERSION:2.0
PRODID:-//ChamberMaster//Event Calendar 2.0//EN
METHOD:PUBLISH
X-PUBLISHED-TTL:P3D
REFRESH-INTERVAL:P3D
CALSCALE:GREGORIAN
BEGIN:VEVENT
DTSTART:20260206T133000Z
DTEND:20260206T143000Z
X-MICROSOFT-CDO-ALLDAYEVENT:FALSE
SUMMARY:Friday Coffee Sponsored by City of Neosho
DESCRIPTION:Join us for the February 6th Friday Coffee! This casual networking event offers the perfect opportunity to connect with fellow Chamber members over a cup of coffee and breakfast treats. Thanks to the City of Neosho for sponsoring this event!\n\nEvent Details:\n\n\n	Date: Friday\, February 6th\n	Time: 7:30 am   8:30 am\n	Location: City Hall - 203 E. Main Street\, Neosho\, Mo.\n	Sponsored By: City of Neosho\n\n\nWe look forward to seeing you there!
X-ALT-DESC;FMTTYPE=text/html:<p><br />\nJoin us for the February 6th Friday Coffee! This casual networking event offers the perfect opportunity to connect with fellow Chamber members over a cup of coffee and breakfast treats.&nbsp\;Thanks to the City of Neosho for sponsoring this event!</p>\n\n<p><strong>Event Details:</strong></p>\n\n<ul>\n	<li><strong>Date:</strong> Friday\, February&nbsp\;6th</li>\n	<li><strong>Time:</strong> 7:30 am &ndash\; 8:30 am</li>\n	<li><strong>Location:</strong>&nbsp\;City Hall - 203 E. Main Street\, Neosho\, Mo.</li>\n	<li><strong>Sponsored By:</strong> City of Neosho</li>\n</ul>\n\n<p>We look forward to seeing you there!</p>\n
LOCATION:City Hall 203 E. Main Street Neosho\, Mo.
UID:e.2144.18932
SEQUENCE:3
DTSTAMP:20260423T193709Z
URL:https://www.neoshocc.com/events/details/friday-coffee-sponsored-by-city-of-neosho-18932
END:VEVENT

END:VCALENDAR
