BEGIN:VCALENDAR
VERSION:2.0
PRODID:-//ChamberMaster//Event Calendar 2.0//EN
METHOD:PUBLISH
X-PUBLISHED-TTL:P3D
REFRESH-INTERVAL:P3D
CALSCALE:GREGORIAN
BEGIN:VEVENT
DTSTART:20260313T123000Z
DTEND:20260313T133000Z
X-MICROSOFT-CDO-ALLDAYEVENT:FALSE
SUMMARY:Friday Coffee Sponsored by Community Support Services & New Location Ribbon Cutting
DESCRIPTION:Join us for the March 13th Friday Coffee! This casual networking event offers the perfect opportunity to connect with fellow Chamber members over a cup of coffee and breakfast treats. Thanks to Community Support Services for sponsoring this event!\n\nEvent Details:\n\n\n	Date: Friday\, March 13th\n	Time: 7:30 am   8:30 am\n	Location: 16202 Highway 59 Neosho\, MO\n	Sponsored By: Community Support Services \n\n\nWe look forward to seeing you there!
X-ALT-DESC;FMTTYPE=text/html:<p><br />\nJoin us for the March 13th Friday Coffee! This casual networking event offers the perfect opportunity to connect with fellow Chamber members over a cup of coffee and breakfast treats.&nbsp\;Thanks to Community Support Services&nbsp\;for sponsoring this event!</p>\n\n<p><strong>Event Details:</strong></p>\n\n<ul>\n	<li><strong>Date:</strong> Friday\, March 13th</li>\n	<li><strong>Time:</strong> 7:30 am &ndash\; 8:30 am</li>\n	<li><strong>Location:</strong>&nbsp\;<span class="a_GcMg font-feature-liga-off font-feature-clig-off font-feature-calt-off text-decoration-none text-strikethrough-none" style="color: rgba(0\,0\,0\,var(--O42jJQ\,1))\; caret-color: rgb(0\, 0\, 0)\; --Ys-XuQ: none\; font-weight: 700\; font-kerning: none\;">16202 Highway 59 Neosho\, MO</span></li>\n	<li><strong>Sponsored By:</strong> Community Support Services&nbsp\;</li>\n</ul>\n\n<p>We look forward to seeing you there!</p>\n
LOCATION:16202 Highway 59 Neosho\, MO 64850
UID:e.2144.18936
SEQUENCE:3
DTSTAMP:20260423T192329Z
URL:https://www.neoshocc.com/events/details/friday-coffee-sponsored-by-community-support-services-18936
END:VEVENT

END:VCALENDAR
