BEGIN:VCALENDAR
VERSION:2.0
PRODID:-//ChamberMaster//Event Calendar 2.0//EN
METHOD:PUBLISH
X-PUBLISHED-TTL:P3D
REFRESH-INTERVAL:P3D
CALSCALE:GREGORIAN
BEGIN:VEVENT
DTSTART:20251015T050000Z
DTEND:20251018T050000Z
X-MICROSOFT-CDO-ALLDAYEVENT:FALSE
SUMMARY:Friends of The Neosho Newton County Library Used Book Sale
DESCRIPTION:Fall is approaching soon which means our annual October used book sale is right around the corner! From October 15th to October 18th\, we will be hosting our Friends of The Library Used Book Sale\, and The Neosho Newton County Library will be accepting donations as early as October 6th. \n\n\n\nDonations should be clean\, free from dirt\, bugs\, cobwebs\, and mold.\n\nWe will accept the following:\n\n\n\nBooks\n\nAudio Books\n\nDVDs\n\nGames\n\nPuzzles (if complete). \n\n\n\nAll donations must be in a box or a bag. No loose items.
X-ALT-DESC;FMTTYPE=text/html:Fall is approaching soon which means our annual October used book sale is right around the corner! From October 15th to October 18th\, we will be hosting our Friends of The Library Used Book Sale\, and The Neosho Newton County Library will be accepting donations as early as October 6th.&nbsp\;<br />\n<br />\nDonations should be clean\, free from dirt\, bugs\, cobwebs\, and mold.<br />\nWe will accept the following:<br />\n<br />\nBooks<br />\nAudio Books<br />\nDVDs<br />\nGames<br />\nPuzzles (if complete).&nbsp\;<br />\n<br />\nAll donations must be in a box or a bag. No loose items.
LOCATION:201 W Spring St Neosho\, MO 64850
UID:e.2144.18461
SEQUENCE:3
DTSTAMP:20260424T030909Z
URL:https://www.neoshocc.com/events/details/friends-of-the-neosho-newton-county-library-used-book-sale-18461
END:VEVENT

END:VCALENDAR
