BEGIN:VCALENDAR
VERSION:2.0
PRODID:-//ChamberMaster//Event Calendar 2.0//EN
METHOD:PUBLISH
X-PUBLISHED-TTL:P3D
REFRESH-INTERVAL:P3D
CALSCALE:GREGORIAN
BEGIN:VEVENT
DTSTART:20231018T190000Z
DTEND:20231018T210000Z
X-MICROSOFT-CDO-ALLDAYEVENT:FALSE
SUMMARY:Genealogy Workshop presented by Crowder College's Lee Library
DESCRIPTION:Learn genealogy research tips at Crowder College Lee Library's Genealogy Workshop on October 18 form 2 - 4pm. Free and open to the public (parental approval for minors required). RSVP to Matthew Cole\, MatthewCole2@crowder.edu or call 417.455.5606
X-ALT-DESC;FMTTYPE=text/html:Learn genealogy research tips at Crowder College Lee Library&#39\;s Genealogy Workshop on October 18 form 2 - 4pm. Free and open to the public (parental approval for minors required). RSVP to Matthew Cole\, MatthewCole2@crowder.edu or call 417.455.5606
LOCATION:Lee Library\, Farber Hall\, Crowder College 601 Laclede Ave.\, Neosho\, MO 64850
UID:e.2144.10817
SEQUENCE:3
DTSTAMP:20260425T140101Z
URL:https://www.neoshocc.com/events/details/genealogy-workshop-presented-by-crowder-college-s-lee-library-10817
END:VEVENT

END:VCALENDAR
