BEGIN:VCALENDAR
VERSION:2.0
PRODID:-//ChamberMaster//Event Calendar 2.0//EN
METHOD:PUBLISH
X-PUBLISHED-TTL:P3D
REFRESH-INTERVAL:P3D
CALSCALE:GREGORIAN
BEGIN:VEVENT
DTSTART;VALUE=DATE:20250207
DTEND;VALUE=DATE:20250209
TRANSP:TRANSPARENT
X-MICROSOFT-CDO-ALLDAYEVENT:TRUE
SUMMARY:Get Ready For Valentines
DESCRIPTION:30% off all product to get you looking good for that specific someone at Challes' Old School Barbering ??
X-ALT-DESC;FMTTYPE=text/html:30% off all product to get you looking good for that specific someone at Challes&rsquo\; Old School Barbering ??
LOCATION:412 N. Lincoln st
UID:e.2144.14658
SEQUENCE:3
DTSTAMP:20260424T132815Z
URL:https://www.neoshocc.com/events/details/get-ready-for-valentines-14658
END:VEVENT

END:VCALENDAR
