BEGIN:VCALENDAR
VERSION:2.0
PRODID:-//ChamberMaster//Event Calendar 2.0//EN
METHOD:PUBLISH
X-PUBLISHED-TTL:P3D
REFRESH-INTERVAL:P3D
CALSCALE:GREGORIAN
BEGIN:VEVENT
DTSTART;VALUE=DATE:20250815
DTEND;VALUE=DATE:20250821
TRANSP:TRANSPARENT
X-MICROSOFT-CDO-ALLDAYEVENT:TRUE
SUMMARY:Get Your 2025–2026 Bright Futures Shirt!
DESCRIPTION:Get Your 2025 2026 Bright Futures Shirt! \n\nShow your Wildcat pride AND support Neosho students in need! Every shirt sold helps spread awareness and directly benefits local kids.\n\n Perfect for:\n\n\n	 Students\n	 Parents\n	 Community partners\n	 All Wildcat fans!\n\n\n Sizes for everyone   order here: tinyurl.com/bfshirtsignup\n\nOrders close August 20th!\n\nLet's unite\, look great\, and support a brighter future!\n\n*NOT FOR NSD STAFF*
X-ALT-DESC;FMTTYPE=text/html:<p>&nbsp\; &nbsp\; &nbsp\;<strong>Get Your 2025&ndash\;2026 Bright Futures Shirt!</strong>&nbsp\;<br />\nShow your Wildcat pride AND support Neosho students in need! Every shirt sold helps spread awareness and directly benefits local kids.</p>\n\n<p>&nbsp\;Perfect for:</p>\n\n<ul>\n	<li>&nbsp\;Students</li>\n	<li>&nbsp\;Parents</li>\n	<li>&nbsp\;Community partners</li>\n	<li>&nbsp\;All Wildcat fans!</li>\n</ul>\n\n<p>&nbsp\;Sizes for everyone &mdash\; order here: <span style="font-size:16px"><u><strong><a href="https://tinyurl.com/bfshirtsignup" rel="noopener" target="_new">tinyurl.com/bfshirtsignup</a></strong></u></span><br />\n<span style="font-size:20px"><strong>Orders close August 20th!</strong></span></p>\n\n<p>Let&rsquo\;s unite\, look great\, and support a brighter future!<br />\n*NOT FOR NSD STAFF*</p>\n
LOCATION:
UID:e.2144.18386
SEQUENCE:3
DTSTAMP:20260424T043251Z
URL:https://www.neoshocc.com/events/details/get-your-2025-2026-bright-futures-shirt-18386
END:VEVENT

END:VCALENDAR
