BEGIN:VCALENDAR
VERSION:2.0
PRODID:-//ChamberMaster//Event Calendar 2.0//EN
METHOD:PUBLISH
X-PUBLISHED-TTL:P3D
REFRESH-INTERVAL:P3D
CALSCALE:GREGORIAN
BEGIN:VEVENT
DTSTART:20230301T170000Z
DTEND:20230301T220000Z
X-MICROSOFT-CDO-ALLDAYEVENT:FALSE
SUMMARY:Ghetto Tacos Day In Neosho
DESCRIPTION:Come out to CBT\, 3105 Lusk Dr\, and enjoy some yummy food from Ghetto Tacos while supporting Big Brothers Big Sisters of Jasper and Newton Counties.
X-ALT-DESC;FMTTYPE=text/html:Come out to CBT\, 3105 Lusk Dr\, and enjoy some yummy food from Ghetto Tacos while supporting Big Brothers Big Sisters of Jasper and Newton Counties.
LOCATION:Community Bank and Trust 3105 Lusk Dr Neosho MO
UID:e.2144.9126
SEQUENCE:3
DTSTAMP:20260425T232125Z
URL:https://www.neoshocc.com/events/details/ghetto-tacos-day-in-neosho-9126
END:VEVENT

END:VCALENDAR
