BEGIN:VCALENDAR
VERSION:2.0
PRODID:-//ChamberMaster//Event Calendar 2.0//EN
METHOD:PUBLISH
X-PUBLISHED-TTL:P3D
REFRESH-INTERVAL:P3D
CALSCALE:GREGORIAN
BEGIN:VEVENT
DTSTART:20241115T170000Z
DTEND:20241115T220000Z
X-MICROSOFT-CDO-ALLDAYEVENT:FALSE
SUMMARY:Ghetto Tacos for Big Brothers Big Sisters
DESCRIPTION:Come out to Community Bank and Trust on Lusk Drive and support Big Brothers Big Sisters of Jasper and Newton Counties by eating some great tasting Ghetto Tacos.\n\n\n\nWe will also be collecting new 2-player board or card games for our matches while we are out there!
X-ALT-DESC;FMTTYPE=text/html:Come out to Community Bank and Trust on Lusk Drive and support Big Brothers Big Sisters of Jasper and Newton Counties by eating some great tasting Ghetto Tacos.<br />\n<br />\nWe will also be collecting new 2-player board or card games for our matches while we are out there!
LOCATION:3105 Lusk Drive Neosho\, MO 64850
UID:e.2144.13916
SEQUENCE:3
DTSTAMP:20260424T173712Z
URL:https://www.neoshocc.com/events/details/ghetto-tacos-for-big-brothers-big-sisters-13916
END:VEVENT

END:VCALENDAR
