BEGIN:VCALENDAR
VERSION:2.0
PRODID:-//ChamberMaster//Event Calendar 2.0//EN
METHOD:PUBLISH
X-PUBLISHED-TTL:P3D
REFRESH-INTERVAL:P3D
CALSCALE:GREGORIAN
BEGIN:VEVENT
DTSTART:20251101T140000Z
DTEND:20251101T190000Z
X-MICROSOFT-CDO-ALLDAYEVENT:FALSE
SUMMARY:Gifts from Friends of the Neosho Newton County Library Christmas Open House
DESCRIPTION:The Holidays are right around the corner!! Which means it's the perfect time of year to start stocking up on gifts and presents for friends and family. Join us at the Neosho Newton County Library for the Gifts from Friends of the Neosho Newton County Library Christmas Open House event. You won't want to miss it!
X-ALT-DESC;FMTTYPE=text/html:The Holidays are right around the corner!! Which means it&#39\;s the perfect time of year to start stocking up on gifts and presents for friends and family. Join us at the Neosho Newton County Library for the Gifts from Friends of the Neosho Newton County Library Christmas Open House event. You won&#39\;t want to miss it!
LOCATION:201 West Spring Street Neosho\, MO 64850
UID:e.2144.18505
SEQUENCE:3
DTSTAMP:20260424T003516Z
URL:https://www.neoshocc.com/events/details/gifts-from-friends-of-the-neosho-newton-county-library-christmas-open-house-18505
END:VEVENT

END:VCALENDAR
