BEGIN:VCALENDAR
VERSION:2.0
PRODID:-//ChamberMaster//Event Calendar 2.0//EN
METHOD:PUBLISH
X-PUBLISHED-TTL:P3D
REFRESH-INTERVAL:P3D
CALSCALE:GREGORIAN
BEGIN:VEVENT
DTSTART;VALUE=DATE:20241104
DTEND;VALUE=DATE:20241210
TRANSP:TRANSPARENT
X-MICROSOFT-CDO-ALLDAYEVENT:TRUE
SUMMARY:Girls Youth Volleyball - Neosho Freeman Family YMCA
DESCRIPTION:BUMP\, SET SPIKE!\n\n\n\nServe up fun with YMCA Girls Volleyball! Girls in Grades 5-8 can sharpen their skills\, build confidence\, and make lasting friends in a positive\, team-focused environment.\n\n\n\nRegister online at tristatefamilyymca.org or in person at the Y! For more info\, contact Dylan Snider at 417-455-9999 or dylan@tristatefamilyymca.org 4701 Chouteau Ave.\, Neosho\, MO 64850\n\n\n\nGirls\, 5th-8th Grade\n\nSeason dates | January 11 February 15\n\nRegistration | November 4-December 9\n\nFees | $45/Members\; $55/Non-Members\n\n\n\nParents are encouraged to be more than spectators by contributing their time as volunteer coaches - as well as being their kid's greatest fan. Sign up to be a volunteer coach
X-ALT-DESC;FMTTYPE=text/html:BUMP\, SET SPIKE!<br />\n<br />\nServe up fun with YMCA Girls Volleyball! Girls in Grades 5-8 can sharpen their skills\, build confidence\, and make lasting friends in a positive\, team-focused environment.<br />\n<br />\nRegister online at tristatefamilyymca.org or in person at the Y! For more info\, contact Dylan Snider at 417-455-9999 or dylan@tristatefamilyymca.org 4701 Chouteau Ave.\, Neosho\, MO 64850<br />\n<br />\nGirls\, 5th-8th Grade<br />\nSeason dates | January 11&ndash\;February 15<br />\nRegistration | November 4-December 9<br />\nFees | $45/Members\; $55/Non-Members<br />\n<br />\nParents are encouraged to be more than spectators by contributing their time as volunteer coaches - as well as being their kid&rsquo\;s greatest fan. Sign up to be a volunteer coach
LOCATION:Neosho Freeman Family YMCA 4701 Chouteau Ave.\, Neosho\, MO 64850
UID:e.2144.14135
SEQUENCE:3
DTSTAMP:20260424T162112Z
URL:https://www.neoshocc.com/events/details/girls-youth-volleyball-neosho-freeman-family-ymca-14135
END:VEVENT

END:VCALENDAR
