BEGIN:VCALENDAR
VERSION:2.0
PRODID:-//ChamberMaster//Event Calendar 2.0//EN
METHOD:PUBLISH
X-PUBLISHED-TTL:P3D
REFRESH-INTERVAL:P3D
CALSCALE:GREGORIAN
BEGIN:VEVENT
DTSTART:20250923T160000Z
DTEND:20250923T220000Z
X-MICROSOFT-CDO-ALLDAYEVENT:FALSE
SUMMARY:Go Wild\, Give Blood!
DESCRIPTION:Go Wild\, Give Blood! \n\n\n\nNeosho Community Blood Drive \n\n\n\nRocketdyne Church of Christ - Gym \n\n1111 Rocketdyne Road\, Neosho \n\n\n\nTuesday\, September 23\, 2025\n\n11AM-5PM\n\n\n\nTo Schedule an appointment\, call 417-227-5006 or go to www.cbco.org/donate-blood
X-ALT-DESC;FMTTYPE=text/html:Go Wild\, Give Blood!&nbsp\;<br />\n<br />\nNeosho Community Blood Drive&nbsp\;<br />\n<br />\nRocketdyne Church of Christ - Gym&nbsp\;<br />\n1111 Rocketdyne Road\, Neosho&nbsp\;<br />\n<br />\nTuesday\, September 23\, 2025<br />\n11AM-5PM<br />\n<br />\nTo Schedule an appointment\, call 417-227-5006 or go to www.cbco.org/donate-blood
LOCATION:Rocketdyne Church of Christ - Gym 1111 Rocketdyne Rd\, Neosho\, Mo.
UID:e.2144.18464
SEQUENCE:3
DTSTAMP:20260424T025823Z
URL:https://www.neoshocc.com/events/details/go-wild-give-blood-18464
END:VEVENT

END:VCALENDAR
