BEGIN:VCALENDAR
VERSION:2.0
PRODID:-//ChamberMaster//Event Calendar 2.0//EN
METHOD:PUBLISH
X-PUBLISHED-TTL:P3D
REFRESH-INTERVAL:P3D
CALSCALE:GREGORIAN
BEGIN:VEVENT
DTSTART:20250626T180000Z
DTEND:20250627T020000Z
X-MICROSOFT-CDO-ALLDAYEVENT:FALSE
SUMMARY:Grand Opening Celebration for Rock & Brews
DESCRIPTION:Grand Opening Event   Rock & Brews at Indigo Sky Casino  \n\nDate: Thursday\, June 26\n\nRibbon Cutting Ceremony: 1:00 PM\n\nLive Concert: 8:00 PM   The Gene Simmons Band\n\nLocation: Indigo Sky Casino & Resort\n\nIt's official   Opening Night at the NEW Rock & Brews Restaurant & Concert Bar is going to be LEGENDARY!   Join us for an unforgettable day as we celebrate the launch of the newest hotspot in live entertainment\, food\, and rock & roll vibes.\n\n  The Gene Simmons Band LIVE on the Rock & Brews Stage!\n\nCatch an electrifying FREE SHOW by rock legend Gene Simmons and his band\, starting at 8PM   broadcast live throughout the casino!\n\nBe part of history\, experience the energy\, and rock the night away at Indigo Sky Casino & Resort!
X-ALT-DESC;FMTTYPE=text/html:<p data-end="198" data-start="133"><strong data-end="198" data-start="133">&#127881\; Grand Opening Event &ndash\; Rock &amp\; Brews at Indigo Sky Casino &#127881\;</strong></p>\n\n<p data-end="363" data-start="200"><strong data-end="209" data-start="200">Date:</strong> Thursday\, June 26<br data-end="230" data-start="227" />\n<strong data-end="258" data-start="230">Ribbon Cutting Ceremony:</strong> 1:00 PM<br data-end="269" data-start="266" />\n<strong data-end="286" data-start="269">Live Concert:</strong> 8:00 PM &ndash\; <em data-end="320" data-start="297">The Gene Simmons Band</em><br data-end="323" data-start="320" />\n<strong data-end="336" data-start="323">Location:</strong> Indigo Sky Casino &amp\; Resort</p>\n\n<p data-end="614" data-start="365">It&rsquo\;s official &mdash\; Opening Night at the <strong data-end="447" data-start="402">NEW Rock &amp\; Brews Restaurant &amp\; Concert Bar</strong> is going to be <strong data-end="476" data-start="463">LEGENDARY</strong>! &#128293\; Join us for an unforgettable day as we celebrate the launch of the newest hotspot in live entertainment\, food\, and rock &amp\; roll vibes.</p>\n\n<p data-end="816" data-start="616">&#127928\; <strong data-end="676" data-start="619">The Gene Simmons Band LIVE on the Rock &amp\; Brews Stage!</strong><br data-end="679" data-start="676" />\nCatch an electrifying <strong data-end="714" data-start="701">FREE SHOW</strong> by rock legend Gene Simmons and his band\, starting at 8PM &mdash\; <strong data-end="815" data-start="775">broadcast live throughout the casino</strong>!</p>\n\n<p data-end="915" data-start="818">Be part of history\, experience the energy\, and rock the night away at Indigo Sky Casino &amp\; Resort!</p>\n
LOCATION:Indigo Sky Casino 70220 E Highway 60\, Wyandotte OK
UID:e.2144.16632
SEQUENCE:3
DTSTAMP:20260424T073709Z
URL:https://www.neoshocc.com/events/details/grand-opening-celebration-for-rock-brews-16632
END:VEVENT

END:VCALENDAR
