BEGIN:VCALENDAR
VERSION:2.0
PRODID:-//ChamberMaster//Event Calendar 2.0//EN
METHOD:PUBLISH
X-PUBLISHED-TTL:P3D
REFRESH-INTERVAL:P3D
CALSCALE:GREGORIAN
BEGIN:VEVENT
DTSTART:20230717T143000Z
DTEND:20230717T163000Z
X-MICROSOFT-CDO-ALLDAYEVENT:FALSE
SUMMARY:Grand Opening of the Splashpad of the Eastern Shawnee Tribe of Oklahoma
DESCRIPTION:Grand Opening of the Splashpad \n\nEastern Shawnee Tribe of Oklahoma
X-ALT-DESC;FMTTYPE=text/html:Grand Opening of the Splashpad&nbsp\;<br />\nEastern Shawnee Tribe of Oklahoma
LOCATION:10205 S. Bluejacket Road Wyandotte\, OK
UID:e.2144.10502
SEQUENCE:3
DTSTAMP:20260425T171227Z
URL:https://www.neoshocc.com/events/details/grand-opening-of-the-splashpad-of-the-eastern-shawnee-tribe-of-oklahoma-10502
END:VEVENT

END:VCALENDAR
