BEGIN:VCALENDAR
VERSION:2.0
PRODID:-//ChamberMaster//Event Calendar 2.0//EN
METHOD:PUBLISH
X-PUBLISHED-TTL:P3D
REFRESH-INTERVAL:P3D
CALSCALE:GREGORIAN
BEGIN:VEVENT
DTSTART:20241218T190000Z
DTEND:20241218T200000Z
X-MICROSOFT-CDO-ALLDAYEVENT:FALSE
SUMMARY:Grand Opening Ribbon Cutting - Lace & Grace Bridal Boutique
DESCRIPTION:Join us for the Grand Opening Ribbon Cutting for Lace & Grace Bridal Boutique at their beautiful New Location on the West Side of the Historic Downtown Neosho Square.
X-ALT-DESC;FMTTYPE=text/html:Join us for the Grand Opening Ribbon Cutting for Lace &amp\; Grace Bridal Boutique at their beautiful New Location on the West Side of the Historic Downtown Neosho Square.&nbsp\;&nbsp\;
LOCATION:Lace & Grace Boutique 114 S. Wood St Neosho\, MO 64850
UID:e.2144.14173
SEQUENCE:3
DTSTAMP:20260424T162010Z
URL:https://www.neoshocc.com/events/details/grand-opening-ribbon-cutting-lace-grace-bridal-boutique-14173
END:VEVENT

END:VCALENDAR
