BEGIN:VCALENDAR
VERSION:2.0
PRODID:-//ChamberMaster//Event Calendar 2.0//EN
METHOD:PUBLISH
X-PUBLISHED-TTL:P3D
REFRESH-INTERVAL:P3D
CALSCALE:GREGORIAN
BEGIN:VEVENT
DTSTART:20230610T160000Z
DTEND:20230611T010000Z
X-MICROSOFT-CDO-ALLDAYEVENT:FALSE
SUMMARY:Grand Opening - The Sho
DESCRIPTION:Don't miss the Grand Opening of The Sho\, Neosho's newest Food Truck Park!  Live Music\, Games & Food Trucks!\n\nCornhole Tournament - CASH Prizes!\n\nDouble Elimination\n\n2-Player Teams\n\nRegister Online https://docs.google.com/forms/d/e/1FAIpQLSeuqNjJ5LhVXV8oZvrK4gxgR47k5fvZ50vQDizUzGdj9o8ivw/viewform\n\nStarts at 5 pm\n\n$20 per team entry fee\n\nHere is a list of the Food Trucks\n\n \n\nSierra's Chuckwagon\n\nWeekend Grind\n\nTakea Stand Smoothie\n\nChuys\n\nEl Taco Zone\n\nTwisted Pineapple\n\nJust a Little Bone-In BBQ
X-ALT-DESC;FMTTYPE=text/html:Don&#39\;t miss the Grand Opening of The Sho\, Neosho&#39\;s newest Food Truck Park!&nbsp\; Live Music\, Games &amp\; Food Trucks!<br />\nCornhole Tournament - CASH Prizes!<br />\nDouble Elimination<br />\n2-Player Teams<br />\nRegister Online&nbsp\;<span style="font-family:calibri\,sans-serif\;"><span style="font-size:11.0pt\;"><a href="https://docs.google.com/forms/d/e/1FAIpQLSeuqNjJ5LhVXV8oZvrK4gxgR47k5fvZ50vQDizUzGdj9o8ivw/viewform">https://docs.google.com/forms/d/e/1FAIpQLSeuqNjJ5LhVXV8oZvrK4gxgR47k5fvZ50vQDizUzGdj9o8ivw/viewform</a></span></span><br />\nStarts at 5 pm<br />\n$20 per team entry fee<br />\nHere is a list of the Food Trucks<br />\n&nbsp\;<br />\nSierra&rsquo\;s Chuckwagon<br />\nWeekend Grind<br />\n<span id="ms-outlook-ios-cursor">Takea Stand Smoothie</span><br />\nChuys<br />\nEl Taco Zone<br />\nTwisted Pineapple<br />\n<span style="font-family:calibri\,sans-serif\;"><span style="font-size:11.0pt\;">Just a Little Bone-In BBQ&nbsp\;</span></span><br />\n&nbsp\;
LOCATION:The Sho - Food Truck Park 625 W. Coler Neosho\, MO
UID:e.2144.10446
SEQUENCE:3
DTSTAMP:20260425T184706Z
URL:https://www.neoshocc.com/events/details/grand-opening-the-sho-10446
END:VEVENT

END:VCALENDAR
