BEGIN:VCALENDAR
VERSION:2.0
PRODID:-//ChamberMaster//Event Calendar 2.0//EN
METHOD:PUBLISH
X-PUBLISHED-TTL:P3D
REFRESH-INTERVAL:P3D
CALSCALE:GREGORIAN
BEGIN:VEVENT
DTSTART:20241008T150000Z
DTEND:20241008T170000Z
X-MICROSOFT-CDO-ALLDAYEVENT:FALSE
SUMMARY:Guest Speaker: Dr. Rosetti on School Vouchers & MO Education Legislation
DESCRIPTION:Newton County Retired School Personnel Association invites you to hear Dr. Tony Rosetti\, retired superintendent of Webb City\, speak about school vouchers and other Missouri state education legislation including SB727. Tuesday\, October 8 at Newton County Library Community Room. Refreshments start at 10:00 with Dr. Rosetti presenting at 10:30.
X-ALT-DESC;FMTTYPE=text/html:<span style="font-family:aptos\,sans-serif\;"><span style="font-size:12.0pt\;">Newton County Retired School Personnel Association invites you to hear Dr. Tony Rosetti\, retired superintendent&nbsp\;of Webb City\, speak about school vouchers and other Missouri state education legislation including SB727. <strong>Tuesday\, October 8</strong> at Newton County Library Community Room. Refreshments start at 10:00 with Dr. Rosetti presenting at 10:30.&nbsp\;</span></span>
LOCATION:
UID:e.2144.13726
SEQUENCE:3
DTSTAMP:20260424T190852Z
URL:https://www.neoshocc.com/events/details/guest-speaker-dr-rosetti-on-school-vouchers-mo-education-legislation-13726
END:VEVENT

END:VCALENDAR
