BEGIN:VCALENDAR
VERSION:2.0
PRODID:-//ChamberMaster//Event Calendar 2.0//EN
METHOD:PUBLISH
X-PUBLISHED-TTL:P3D
REFRESH-INTERVAL:P3D
CALSCALE:GREGORIAN
BEGIN:VEVENT
DTSTART:20230225T223000Z
DTEND:20230226T030000Z
X-MICROSOFT-CDO-ALLDAYEVENT:FALSE
SUMMARY:Guns & Hoses
DESCRIPTION:Guns & Hoses Charity Basketball Game\n\nFire Department vs. Police Department
X-ALT-DESC;FMTTYPE=text/html:Guns &amp\; Hoses Charity Basketball Game<br />\nFire Department vs. Police Department
LOCATION:Neosho Jr. High 14646 Kodiak Rd Neosho\, MO
UID:e.2144.9073
SEQUENCE:3
DTSTAMP:20260426T003609Z
URL:https://www.neoshocc.com/events/details/guns-hoses-9073
END:VEVENT

END:VCALENDAR
