BEGIN:VCALENDAR
VERSION:2.0
PRODID:-//ChamberMaster//Event Calendar 2.0//EN
METHOD:PUBLISH
X-PUBLISHED-TTL:P3D
REFRESH-INTERVAL:P3D
CALSCALE:GREGORIAN
BEGIN:VEVENT
DTSTART;VALUE=DATE:20241101
DTEND;VALUE=DATE:20250102
TRANSP:TRANSPARENT
X-MICROSOFT-CDO-ALLDAYEVENT:TRUE
SUMMARY:Gymnastics/Tumbling Registration - Neosho Freeman Family YMCA
DESCRIPTION:Registration: November 1- January 1 \n\nDates: Mondays & Fridays\, January 6-January 31 (4 Weeks)\n\nTime: Mondays: 6:30-7:30 / Fridays: 6:00 - 7:00\n\nAges 3-10 years old \n\nFees: $45/Member\; $55/Non-Member \n\n*A $10 late fee will be applied to registrations taken after the deadline. \n\n\n\nExperience a fun-filled month where many memories and new friendships will be made. Emphasis will be placed on reinforcing basics while using safe progressions to pursue new skills.
X-ALT-DESC;FMTTYPE=text/html:Registration: November 1- January 1&nbsp\;<br />\nDates: Mondays &amp\; Fridays\, January 6-January 31 (4 Weeks)<br />\nTime: Mondays: 6:30-7:30 / Fridays: 6:00 - 7:00<br />\nAges 3-10 years old&nbsp\;<br />\nFees: $45/Member\; $55/Non-Member&nbsp\;<br />\n*A $10 late fee will be applied to registrations taken after the deadline.&nbsp\;<br />\n<br />\nExperience a fun-filled month where many memories and new friendships will be made. Emphasis will be placed on reinforcing basics while using safe progressions to pursue new skills.&nbsp\;
LOCATION:Neosho Freeman Family YMCA 4701 Chouteau Ave. Neosho\, Mo.
UID:e.2144.14134
SEQUENCE:3
DTSTAMP:20260424T150901Z
URL:https://www.neoshocc.com/events/details/gymnastics-tumbling-registration-neosho-freeman-family-ymca-14134
END:VEVENT

END:VCALENDAR
