BEGIN:VCALENDAR
VERSION:2.0
PRODID:-//ChamberMaster//Event Calendar 2.0//EN
METHOD:PUBLISH
X-PUBLISHED-TTL:P3D
REFRESH-INTERVAL:P3D
CALSCALE:GREGORIAN
BEGIN:VEVENT
DTSTART:20250930T140000Z
DTEND:20250930T210000Z
X-MICROSOFT-CDO-ALLDAYEVENT:FALSE
SUMMARY:Half-Price Headshot Event w/ Calotype Photography
DESCRIPTION:Special Offer for Members of the Neosho Area Chamber of Commerce!\n\nUpdate your Headshot for Business and/or Social Media Use! $99 includes one digital file w/ print release. ONE DAY ONLY!!  Each photo session is 10 minutes and a time will be scheduled to review headshots at a later date.
X-ALT-DESC;FMTTYPE=text/html:<span background-color:="" font-size:="" style="color: rgb(51\, 51\, 51)\; font-family: sans-serif\, Arial\, Verdana\, " trebuchet="">Special Offer for Members of the Neosho Area Chamber of Commerce!</span><br font-size:="" style="color: rgb(51\, 51\, 51)\; font-family: sans-serif\, Arial\, Verdana\, " trebuchet="" />\n<span background-color:="" font-size:="" style="color: rgb(51\, 51\, 51)\; font-family: sans-serif\, Arial\, Verdana\, " trebuchet="">Update your Headshot for Business and/or Social Media Use! $99 includes one digital file w/ print release. ONE DAY ONLY!!&nbsp\;&nbsp\;</span><span style="color: rgb(51\, 51\, 51)\; font-family: sans-serif\, Arial\, Verdana\, &quot\;Trebuchet MS&quot\;\; font-size: 13px\; background-color: rgb(255\, 255\, 255)\;">Each photo session is 10 minutes and a time will be scheduled to review headshots at a later date.</span>
LOCATION:Calotype Photography 127 E Main Neosho\, MO
UID:e.2144.18362
SEQUENCE:3
DTSTAMP:20260424T043303Z
URL:https://www.neoshocc.com/events/details/half-price-headshot-event-w-calotype-photography-18362
END:VEVENT

END:VCALENDAR
